BEGIN:VCALENDAR
PRODID:-//Microsoft Corporation//Outlook 12.0 MIMEDIR//EN
VERSION:2.0
CALSCALE:GREGORIAN
BEGIN:VEVENT
UID: f53f75d6-234e-4393-9be5-b3c4b1d5cbbe
SUMMARY:Elektri- ja hübriidajamite tehniku autoala elektriohutuskoolitus
DTSTAMP:20260303T162500
DTSTART:20260303T162500
DTEND:20260421T202000
LOCATION:Loode 3 Valga linn
DESCRIPTION: <p>Koolitusel osalemine on tasuta tingimusel, et koolitus läbitakse täies mahus. Kui tasuta osalemise tingimus ei ole täidetud, käsitletakse koolitusel osalemist tavakoolitusel osalemisena ning osalemine toimub vastavalt Valgamaa Kutseõppekeskuse koolitusel osalemise tingimustele.</p><p>*Antud koolituse hind on tingimuste mitte täitmisel: 640.-</p><p>KOOLITUS ALGAB KELL<br>16:25 ja LÕPP 20:20<br>Kuupäevad<br>03.märts<br>10.märts<br>17.märts<br>24.märts<br>31.märts<br>07.apr<br>14.apr<br>21.apr</p><p>Kursus on mõeldud mootorsõidukite hoolduse ja remondiga tegeleva ettevõtte töötajale. Õppija omab mootorsõiduki hoolduse või remondiga seotud kehtivat kutset või töötab mootorsõidukite hoolduse ja remondiga tegelevas ettevõttes.</p><p><strong>Õpisündmuse teemad:&nbsp;</strong></p><p>Elektri- ja hübriidauto ohutustamise ABC</p><p>Elektriohutusstandardid ja õigusaktid</p><p>Elektri- ja hübriidsõidukite hooldus ja remont</p><p>Elektriohud ja õnnetused</p><p>Aku keemia ja magnetismiga seotud ohud</p><p>Tööriistad, kaitsmed ja hoiatussildid</p><p>Õnnetusele reageerimine ja esmaabi põhimõtted</p><p>Elektri- ja hübriidsõidukite üldtööpõhimõtted</p><p>Sõidukite praktiline pingetustamine</p><p><strong>Link: </strong>https://vkok.ee/et/koolituste-kalender/elektri-ja-hubriidajamite-tehniku-autoala-elektriohutuskoolitus-3</p><p><strong>Hind: </strong>Tasuta</p>
STATUS:CONFIRMED
SEQUENCE:3
X-ALT-DESC;FMTTYPE=text/html:<p>Koolitusel osalemine on tasuta tingimusel, et koolitus läbitakse täies mahus. Kui tasuta osalemise tingimus ei ole täidetud, käsitletakse koolitusel osalemist tavakoolitusel osalemisena ning osalemine toimub vastavalt Valgamaa Kutseõppekeskuse koolitusel osalemise tingimustele.</p><p>*Antud koolituse hind on tingimuste mitte täitmisel: 640.-</p><p>KOOLITUS ALGAB KELL<br>16:25 ja LÕPP 20:20<br>Kuupäevad<br>03.märts<br>10.märts<br>17.märts<br>24.märts<br>31.märts<br>07.apr<br>14.apr<br>21.apr</p><p>Kursus on mõeldud mootorsõidukite hoolduse ja remondiga tegeleva ettevõtte töötajale. Õppija omab mootorsõiduki hoolduse või remondiga seotud kehtivat kutset või töötab mootorsõidukite hoolduse ja remondiga tegelevas ettevõttes.</p><p><strong>Õpisündmuse teemad:&nbsp;</strong></p><p>Elektri- ja hübriidauto ohutustamise ABC</p><p>Elektriohutusstandardid ja õigusaktid</p><p>Elektri- ja hübriidsõidukite hooldus ja remont</p><p>Elektriohud ja õnnetused</p><p>Aku keemia ja magnetismiga seotud ohud</p><p>Tööriistad, kaitsmed ja hoiatussildid</p><p>Õnnetusele reageerimine ja esmaabi põhimõtted</p><p>Elektri- ja hübriidsõidukite üldtööpõhimõtted</p><p>Sõidukite praktiline pingetustamine</p><p><strong>Link: </strong>https://vkok.ee/et/koolituste-kalender/elektri-ja-hubriidajamite-tehniku-autoala-elektriohutuskoolitus-3</p><p><strong>Hind: </strong>Tasuta</p>
X-MICROSOFT-CDO-BUSYSTATUS:OOF
X-MICROSOFT-CDO-IMPORTANCE:1
X-MICROSOFT-DISALLOW-COUNTER:FALSE
X-MS-OLK-ALLOWEXTERNCHECK:TRUE
X-MS-OLK-CONFTYPE:0
X-MICROSOFT-CDO-ALLDAYEVENT:
X-MICROSOFT-MSNCALENDAR-ALLDAYEVENT:
END:VEVENT
END:VCALENDAR