BEGIN:VCALENDAR
PRODID:-//Microsoft Corporation//Outlook 12.0 MIMEDIR//EN
VERSION:2.0
CALSCALE:GREGORIAN
BEGIN:VEVENT
UID: 181fa79a-8d08-4ac0-9721-e84f9e069c94
SUMMARY:Mootorsõiduki juhiabisüsteemide koolitus
DTSTAMP:20260305T162500
DTSTART:20260305T162500
DTEND:20260423T202000
LOCATION:Loode 3 Valga linn
DESCRIPTION: <p>Koolitusel osalemine on tasuta tingimusel, et koolitus läbitakse täies mahus. Kui tasuta osalemise tingimus ei ole täidetud, käsitletakse koolitusel osalemist tavakoolitusel osalemisena ning osalemine toimub vastavalt Valgamaa Kutseõppekeskuse koolitusel osalemise tingimustele.</p><p>*Antud koolituse hind on tingimuste mitte täitmisel: 640.-</p><p>Koolituse kuupäevad:<br>05.märts<br>12.märts<br>19.märts<br>26.märts<br>02.apr<br>09.apr<br>16.apr<br>23.apr<br>Koolitus algab kell16:25 ja lõpp 20:20</p><p>Mootorsõiduki juhiabisüsteemide koolitus hõlmab terviklikku ülevaadet juhiabisüsteemide ja nendega seotud turvaseadmete toimimisest, diagnostikast, hooldusest ja tarkvaralisest seadistamisest. Koolitus keskendub erinevate süsteemide, nagu LIDAR ja CAN-BUS, tehnilisele ülesehitusele ja tööpõhimõtetele, pakkudes osalejatele nii teoreetilist tausta kui ka praktilisi kogemusi.</p><p><strong>Õpisündmuse teemad hõlmavad järgmisi valdkondi:</strong></p><p>Juhiabisüsteemide põhialused ja autonoomne sõit:</p><p>Ülevaade autonoomsete sõidukite tööpõhimõtetest ja juhiabisüsteemide rollist.<br>Ohutusjuhised ja praktilised katsed:</p><p>Ohutusnõuded laserite ja LIDAR-tehnoloogia kasutamisel.<br>Praktilised katsed erinevate peegeldusomadustega klaaspindadega.<br>LIDAR-süsteemide disain ja funktsioon:</p><p>LIDAR-tehnoloogia kasutamine keskkonna ja ulatuse tuvastamiseks.<br>LIDAR-süsteemide elektrooniline juhtimine ja signaalitöötlus.<br>Võrku ühendatud juhiabisüsteemid:</p><p>Juhiabisüsteemide ja CAN-BUS võrgu ülesehitus ning andmete töötlemine.<br>Süsteemi diagnostika ja tarkvara uuendamine:</p><p>LIDAR-süsteemi diagnostikafunktsioonid ja veamälu lugemine.<br>Tarkvara uuendamine ja juhiabisüsteemide seadistamine vastavalt tootja juhistele.<br>Need teemad on mõeldud andma osalejatele põhjalikku teoreetilist teadmist ja praktilisi oskusi juhiabisüsteemide valdkonnas, valmistades neid ette nende süsteemide efektiivseks kasutamiseks, hoolduseks ja diagnostikaks.</p><p><strong>Link: </strong>https://vkok.ee/et/koolituste-kalender/mootorsoiduki-juhiabisusteemide-koolitus</p><p><strong>Hind: </strong>Tasuta</p>
STATUS:CONFIRMED
SEQUENCE:3
X-ALT-DESC;FMTTYPE=text/html:<p>Koolitusel osalemine on tasuta tingimusel, et koolitus läbitakse täies mahus. Kui tasuta osalemise tingimus ei ole täidetud, käsitletakse koolitusel osalemist tavakoolitusel osalemisena ning osalemine toimub vastavalt Valgamaa Kutseõppekeskuse koolitusel osalemise tingimustele.</p><p>*Antud koolituse hind on tingimuste mitte täitmisel: 640.-</p><p>Koolituse kuupäevad:<br>05.märts<br>12.märts<br>19.märts<br>26.märts<br>02.apr<br>09.apr<br>16.apr<br>23.apr<br>Koolitus algab kell16:25 ja lõpp 20:20</p><p>Mootorsõiduki juhiabisüsteemide koolitus hõlmab terviklikku ülevaadet juhiabisüsteemide ja nendega seotud turvaseadmete toimimisest, diagnostikast, hooldusest ja tarkvaralisest seadistamisest. Koolitus keskendub erinevate süsteemide, nagu LIDAR ja CAN-BUS, tehnilisele ülesehitusele ja tööpõhimõtetele, pakkudes osalejatele nii teoreetilist tausta kui ka praktilisi kogemusi.</p><p><strong>Õpisündmuse teemad hõlmavad järgmisi valdkondi:</strong></p><p>Juhiabisüsteemide põhialused ja autonoomne sõit:</p><p>Ülevaade autonoomsete sõidukite tööpõhimõtetest ja juhiabisüsteemide rollist.<br>Ohutusjuhised ja praktilised katsed:</p><p>Ohutusnõuded laserite ja LIDAR-tehnoloogia kasutamisel.<br>Praktilised katsed erinevate peegeldusomadustega klaaspindadega.<br>LIDAR-süsteemide disain ja funktsioon:</p><p>LIDAR-tehnoloogia kasutamine keskkonna ja ulatuse tuvastamiseks.<br>LIDAR-süsteemide elektrooniline juhtimine ja signaalitöötlus.<br>Võrku ühendatud juhiabisüsteemid:</p><p>Juhiabisüsteemide ja CAN-BUS võrgu ülesehitus ning andmete töötlemine.<br>Süsteemi diagnostika ja tarkvara uuendamine:</p><p>LIDAR-süsteemi diagnostikafunktsioonid ja veamälu lugemine.<br>Tarkvara uuendamine ja juhiabisüsteemide seadistamine vastavalt tootja juhistele.<br>Need teemad on mõeldud andma osalejatele põhjalikku teoreetilist teadmist ja praktilisi oskusi juhiabisüsteemide valdkonnas, valmistades neid ette nende süsteemide efektiivseks kasutamiseks, hoolduseks ja diagnostikaks.</p><p><strong>Link: </strong>https://vkok.ee/et/koolituste-kalender/mootorsoiduki-juhiabisusteemide-koolitus</p><p><strong>Hind: </strong>Tasuta</p>
X-MICROSOFT-CDO-BUSYSTATUS:OOF
X-MICROSOFT-CDO-IMPORTANCE:1
X-MICROSOFT-DISALLOW-COUNTER:FALSE
X-MS-OLK-ALLOWEXTERNCHECK:TRUE
X-MS-OLK-CONFTYPE:0
X-MICROSOFT-CDO-ALLDAYEVENT:
X-MICROSOFT-MSNCALENDAR-ALLDAYEVENT:
END:VEVENT
END:VCALENDAR