BEGIN:VCALENDAR
PRODID:-//Microsoft Corporation//Outlook 12.0 MIMEDIR//EN
VERSION:2.0
CALSCALE:GREGORIAN
BEGIN:VEVENT
UID: d29ba604-d43d-4fc8-9225-8eac42995a9c
SUMMARY:Keskkonnasäästlikud pagaritooted ja rohelahendused pagaritöös
DTSTAMP:20260404
DTSTART:20260404
DTEND:20260425
DURATION:P21D
LOCATION:Loode 3 Valga linn
DESCRIPTION: <div class="text-base my-auto mx-auto [--thread-content-margin:--spacing(4)] @w-sm/main:[--thread-content-margin:--spacing(6)] @w-lg/main:[--thread-content-margin:--spacing(16)] px-(--thread-content-margin)"><div class="[--thread-content-max-width:40rem] @w-lg/main:[--thread-content-max-width:48rem] mx-auto max-w-(--thread-content-max-width) flex-1 group/turn-messages focus-visible:outline-hidden relative flex w-full min-w-0 flex-col agent-turn" tabindex="-1"><div class="flex max-w-full flex-col grow"><div class="min-h-8 text-message relative flex w-full flex-col items-end gap-2 text-start break-words whitespace-normal [.text-message+&amp;]:mt-1" data-message-author-role="assistant" data-message-id="b18812c3-2767-4ad8-ae4d-3ec9b3158684" dir="auto" data-message-model-slug="gpt-5-2"><div class="flex w-full flex-col gap-1 empty:hidden first:pt-[1px]"><div class="markdown prose dark:prose-invert w-full wrap-break-word light markdown-new-styling"><p data-start="0" data-end="77">🥖🌱 <strong data-start="5" data-end="70">Keskkonnasäästlikud pagaritooted ja rohelahendused pagaritöös</strong> 🌱🥖</p><p data-start="79" data-end="312">Tahad küpsetada nutikamalt, säästlikumalt ja keskkonda hoides?<br>See praktiline koolitus annab sulle konkreetsed töövõtted, millega vähendada toidukadu, energiakulu ja tootmise keskkonnamõju – ilma kvaliteedis järeleandmisi tegemata.</p><p data-start="314" data-end="523">Õpid:<br>✨ toorainet maksimaalselt ja targalt kasutama<br>✨ energiatõhusaid küpsetusvõtteid rakendama<br>✨ tootmisjääke vähendama ja jääke nutikalt taaskasutama<br>✨ koostama oma töökoha jaoks toimiva roheplaani</p><p data-start="670" data-end="729">📍 Toimumiskoht: Kodukohvik Claara</p><p>&nbsp;4.aprill &nbsp;kell 10:00-16:00 &nbsp; &nbsp;8 tundi&nbsp;<br>11 aprill kell 10:00-16:00 &nbsp; &nbsp;8 tundi&nbsp;<br>12 aprill kell 10:00-16:00 &nbsp; &nbsp;8 tundi&nbsp;<br>19.aprill kell 10:00-13:00 &nbsp; &nbsp;4 tundi&nbsp;<br>24.aprill kell 16:30-19:30 &nbsp; &nbsp;4 tundi&nbsp;</p><p data-start="731" data-end="778">👩‍🍳 Koolitajad: Evelyn Tamm ja Klaire Vaher</p><p data-start="780" data-end="854">🎒 Kaasa võta köögis vajalikud riided: peakate, põll ja vahetusjalanõud.</p><p data-start="856" data-end="928">👉 Registreeru kohe:<br><a class="decorated-link" href="https://koolitus.edu.ee/training/19512/register" data-start="879" data-end="926" rel="noopener" target="_new">https://koolitus.edu.ee/training/19512/register<span class="ms-0.5 inline-block align-middle leading-none" aria-hidden="true"><svg class="block h-[0.75em] w-[0.75em] stroke-current stroke-[0.75]" xmlns="http://www.w3.org/2000/svg" width="20" height="20" aria-hidden="true" data-rtl-flip=""><use href="/cdn/assets/sprites-core-mxwopdm6.svg#304883" fill="currentColor"></use></svg></span></a></p><p data-start="930" data-end="987" data-is-last-node="" data-is-only-node="">Kohtade arv on piiratud – tule küpsetama rohelisemalt! 🌿</p></div></div></div></div><div class="z-0 flex min-h-[46px] justify-start">&nbsp;</div></div></div><p><strong>Link: </strong>https://vkok.ee/et/koolituste-kalender/keskkonnasaastlikud-pagaritooted-ja-rohelahendused-pagaritoos</p><p><strong>Hind: </strong>Tasuta</p>
STATUS:CONFIRMED
SEQUENCE:3
X-ALT-DESC;FMTTYPE=text/html:<div class="text-base my-auto mx-auto [--thread-content-margin:--spacing(4)] @w-sm/main:[--thread-content-margin:--spacing(6)] @w-lg/main:[--thread-content-margin:--spacing(16)] px-(--thread-content-margin)"><div class="[--thread-content-max-width:40rem] @w-lg/main:[--thread-content-max-width:48rem] mx-auto max-w-(--thread-content-max-width) flex-1 group/turn-messages focus-visible:outline-hidden relative flex w-full min-w-0 flex-col agent-turn" tabindex="-1"><div class="flex max-w-full flex-col grow"><div class="min-h-8 text-message relative flex w-full flex-col items-end gap-2 text-start break-words whitespace-normal [.text-message+&amp;]:mt-1" data-message-author-role="assistant" data-message-id="b18812c3-2767-4ad8-ae4d-3ec9b3158684" dir="auto" data-message-model-slug="gpt-5-2"><div class="flex w-full flex-col gap-1 empty:hidden first:pt-[1px]"><div class="markdown prose dark:prose-invert w-full wrap-break-word light markdown-new-styling"><p data-start="0" data-end="77">🥖🌱 <strong data-start="5" data-end="70">Keskkonnasäästlikud pagaritooted ja rohelahendused pagaritöös</strong> 🌱🥖</p><p data-start="79" data-end="312">Tahad küpsetada nutikamalt, säästlikumalt ja keskkonda hoides?<br>See praktiline koolitus annab sulle konkreetsed töövõtted, millega vähendada toidukadu, energiakulu ja tootmise keskkonnamõju – ilma kvaliteedis järeleandmisi tegemata.</p><p data-start="314" data-end="523">Õpid:<br>✨ toorainet maksimaalselt ja targalt kasutama<br>✨ energiatõhusaid küpsetusvõtteid rakendama<br>✨ tootmisjääke vähendama ja jääke nutikalt taaskasutama<br>✨ koostama oma töökoha jaoks toimiva roheplaani</p><p data-start="670" data-end="729">📍 Toimumiskoht: Kodukohvik Claara</p><p>&nbsp;4.aprill &nbsp;kell 10:00-16:00 &nbsp; &nbsp;8 tundi&nbsp;<br>11 aprill kell 10:00-16:00 &nbsp; &nbsp;8 tundi&nbsp;<br>12 aprill kell 10:00-16:00 &nbsp; &nbsp;8 tundi&nbsp;<br>19.aprill kell 10:00-13:00 &nbsp; &nbsp;4 tundi&nbsp;<br>24.aprill kell 16:30-19:30 &nbsp; &nbsp;4 tundi&nbsp;</p><p data-start="731" data-end="778">👩‍🍳 Koolitajad: Evelyn Tamm ja Klaire Vaher</p><p data-start="780" data-end="854">🎒 Kaasa võta köögis vajalikud riided: peakate, põll ja vahetusjalanõud.</p><p data-start="856" data-end="928">👉 Registreeru kohe:<br><a class="decorated-link" href="https://koolitus.edu.ee/training/19512/register" data-start="879" data-end="926" rel="noopener" target="_new">https://koolitus.edu.ee/training/19512/register<span class="ms-0.5 inline-block align-middle leading-none" aria-hidden="true"><svg class="block h-[0.75em] w-[0.75em] stroke-current stroke-[0.75]" xmlns="http://www.w3.org/2000/svg" width="20" height="20" aria-hidden="true" data-rtl-flip=""><use href="/cdn/assets/sprites-core-mxwopdm6.svg#304883" fill="currentColor"></use></svg></span></a></p><p data-start="930" data-end="987" data-is-last-node="" data-is-only-node="">Kohtade arv on piiratud – tule küpsetama rohelisemalt! 🌿</p></div></div></div></div><div class="z-0 flex min-h-[46px] justify-start">&nbsp;</div></div></div><p><strong>Link: </strong>https://vkok.ee/et/koolituste-kalender/keskkonnasaastlikud-pagaritooted-ja-rohelahendused-pagaritoos</p><p><strong>Hind: </strong>Tasuta</p>
X-MICROSOFT-CDO-BUSYSTATUS:OOF
X-MICROSOFT-CDO-IMPORTANCE:1
X-MICROSOFT-DISALLOW-COUNTER:FALSE
X-MS-OLK-ALLOWEXTERNCHECK:TRUE
X-MS-OLK-CONFTYPE:0
X-MICROSOFT-CDO-ALLDAYEVENT:1
X-MICROSOFT-MSNCALENDAR-ALLDAYEVENT:1
END:VEVENT
END:VCALENDAR